BEGIN:VCALENDAR
VERSION:2.0
PRODID:-//Violette Sauvage vide dressing - ECPv6.15.17//NONSGML v1.0//EN
CALSCALE:GREGORIAN
METHOD:PUBLISH
X-WR-CALNAME:Violette Sauvage vide dressing
X-ORIGINAL-URL:https://www.violettesauvage.fr
X-WR-CALDESC:Évènements pour Violette Sauvage vide dressing
REFRESH-INTERVAL;VALUE=DURATION:PT1H
X-Robots-Tag:noindex
X-PUBLISHED-TTL:PT1H
BEGIN:VTIMEZONE
TZID:Europe/Helsinki
BEGIN:DAYLIGHT
TZOFFSETFROM:+0200
TZOFFSETTO:+0300
TZNAME:EEST
DTSTART:20230326T010000
END:DAYLIGHT
BEGIN:STANDARD
TZOFFSETFROM:+0300
TZOFFSETTO:+0200
TZNAME:EET
DTSTART:20231029T010000
END:STANDARD
BEGIN:DAYLIGHT
TZOFFSETFROM:+0200
TZOFFSETTO:+0300
TZNAME:EEST
DTSTART:20240331T010000
END:DAYLIGHT
BEGIN:STANDARD
TZOFFSETFROM:+0300
TZOFFSETTO:+0200
TZNAME:EET
DTSTART:20241027T010000
END:STANDARD
BEGIN:DAYLIGHT
TZOFFSETFROM:+0200
TZOFFSETTO:+0300
TZNAME:EEST
DTSTART:20250330T010000
END:DAYLIGHT
BEGIN:STANDARD
TZOFFSETFROM:+0300
TZOFFSETTO:+0200
TZNAME:EET
DTSTART:20251026T010000
END:STANDARD
END:VTIMEZONE
BEGIN:VEVENT
DTSTART;TZID=Europe/Helsinki:20240928T110000
DTEND;TZID=Europe/Helsinki:20240929T180000
DTSTAMP:20260424T180043
CREATED:20240819T092046Z
LAST-MODIFIED:20240925T101051Z
UID:16378-1727521200-1727632800@www.violettesauvage.fr
SUMMARY:Vide-dressing | Paris\, Palais de la Femme
DESCRIPTION:Violette Sauvage revient pour une nouvelle saison vide-dressing ! Prêt pour un événement 100% seconde main les 28 et 29 septembre prochains?\n \nPour ce premier vide-dressing de la saison\, nous vous donnons rendez-vous les 28 et 29 septembre prochains à Paris ! C’est bien noté dans vos agendas? \n\n• JE VEUX VENDRE •\nPour vendre vos pépites\, complétez simplement le formulaire\, composez votre stand\, et suivez les indications : Easy ! \n\n• LE LIEU •\nRien que pour vous\, les 1000m2 du palais en plein cœur de Paris va se métamorphoser le temps d’un weekend pour devenir le plus grand événement physique de la seconde main ! \n\n• AU PROGRAMME •\n– Un week-end consacré à la slow-fashion et à la seconde main trendy\n– Des milliers d’articles sur plus de 1000m² de bons plans\n– Un espace food & drinks\n– Des animations et des ateliers \nVous aussi\, rejoignez le mouvement de la seconde main et luttez avec nous contre la fast fashion ! 👊🏼 \nÇa se passe de 11h00 à 18h00\, les samedi 28 et dimanche 29 septembre 2024\, au Palais de la Femme à Paris : Save the Date ! \n\n• ANIMATIONS •\nTatouage avec @zozita.slowpoke\nVoyance avec @yeswecards\nMassage avec @les.nomads\nAtelier style avec @larehabilleuse \n\n• INFOS PRATIQUES •\nSamedi 28 et dimanche 29 septembre 2024\n11h – 18h\nPalais de la Femme\n96 rue de Charonne\, 75011 – Paris \nEntrée 2€\nPaiement auprès des exposants en espèces ou CB (sur la majorité des stands) \n  \n• CONTACTS •\nPour ne rien manquer de notre actu\, n’hésitez pas à vous abonner à notre page Facebook\, à notre compte Instagram et à notre compte Tik Tok ! \nSi vous souhaitez nous proposer un article de presse ou blog\, un partenariat\, une animation : presse@violettesauvage.fr\nPour toutes questions générales concernant nos vides dressing et notre actualité : videdressing@violettesauvage.fr \nOn a hâte de vous retrouver pour cette nouvelle édition ! \nLa Team Sauvage
URL:https://www.violettesauvage.fr/evenement/vide-dressing-paris-palais-de-la-femme-5/
LOCATION:Le Palais de la Femme\, 94 rue de Charonne \, Paris \, île de France \, 75011\, France
CATEGORIES:Vide dressing géant
ATTACH;FMTTYPE=image/jpeg:https://www.violettesauvage.fr/wp-content/uploads/2024/08/PLF-SEP24-BAN.jpg
ORGANIZER;CN="Violette Sauvage":MAILTO:videdressing@violettesauvage.fr
END:VEVENT
END:VCALENDAR