BEGIN:VCALENDAR
VERSION:2.0
PRODID:-//Violette Sauvage vide dressing - ECPv6.15.17//NONSGML v1.0//EN
CALSCALE:GREGORIAN
METHOD:PUBLISH
X-WR-CALNAME:Violette Sauvage vide dressing
X-ORIGINAL-URL:https://www.violettesauvage.fr
X-WR-CALDESC:Évènements pour Violette Sauvage vide dressing
REFRESH-INTERVAL;VALUE=DURATION:PT1H
X-Robots-Tag:noindex
X-PUBLISHED-TTL:PT1H
BEGIN:VTIMEZONE
TZID:Europe/Helsinki
BEGIN:DAYLIGHT
TZOFFSETFROM:+0200
TZOFFSETTO:+0300
TZNAME:EEST
DTSTART:20240331T010000
END:DAYLIGHT
BEGIN:STANDARD
TZOFFSETFROM:+0300
TZOFFSETTO:+0200
TZNAME:EET
DTSTART:20241027T010000
END:STANDARD
BEGIN:DAYLIGHT
TZOFFSETFROM:+0200
TZOFFSETTO:+0300
TZNAME:EEST
DTSTART:20250330T010000
END:DAYLIGHT
BEGIN:STANDARD
TZOFFSETFROM:+0300
TZOFFSETTO:+0200
TZNAME:EET
DTSTART:20251026T010000
END:STANDARD
BEGIN:DAYLIGHT
TZOFFSETFROM:+0200
TZOFFSETTO:+0300
TZNAME:EEST
DTSTART:20260329T010000
END:DAYLIGHT
BEGIN:STANDARD
TZOFFSETFROM:+0300
TZOFFSETTO:+0200
TZNAME:EET
DTSTART:20261025T010000
END:STANDARD
END:VTIMEZONE
BEGIN:VEVENT
DTSTART;TZID=Europe/Helsinki:20250301T110000
DTEND;TZID=Europe/Helsinki:20250302T180000
DTSTAMP:20260420T191117
CREATED:20241011T091538Z
LAST-MODIFIED:20241128T110628Z
UID:16428-1740826800-1740938400@www.violettesauvage.fr
SUMMARY:Vide-dressing | Le Havre\, Palais des Régates
DESCRIPTION:Important : notre vide-dressing initialement prévu les 30 novembre et 1er décembre a dû être reporté aux 1er et 2 mars 2025 ! \nNouvelle étape pour Violette Sauvage : pour la toute première fois\, nous posons nos portants au Havre ! 🌿👗 \nLes 1er et 2 mars prochains\, préparez-vous à découvrir notre vide-dressing 100% mode dans un lieu d’exception : le Palais des Régates. Avec notre esprit slow-fashion et une sélection pointue de vêtements de seconde main\, c’est le rendez-vous mode à ne pas manquer ! \nEt pour l’occasion\, nous lançons une offre de lancement exclusive : pour chaque stand réservé\, nous vous offrons un élément supplémentaire ! \n\n• JE VEUX VENDRE •\nPour vendre vos pépites\, complétez simplement le formulaire\, composez votre stand\, et suivez les indications : Easy ! \n\n• LE LIEU •\nRien que pour vous (et pour le bien de notre planète)\, le Palais des Régates se transforme le temps d’un week-end\, en LE bon plan shopping de la ville\, l’endroit idéal pour marier l’élégance de la mode à l’ambiance conviviale d’un lieu unique au bord de l’eau. \n\n• AU PROGRAMME •\n– Un week-end consacré à la slow-fashion et à la seconde main trendy\n– Des milliers d’articles et de bons plans\n– Un espace food & drinks\n– Des animations et des ateliers \nVous aussi\, rejoignez le mouvement de la seconde main et luttez avec nous contre la fast fashion ! 👊🏼 \nÇa se passe de 11h00 à 18h00\, les samedi 1er et dimanche 2 mars 2025\, au Palais des Régates au Havre : Save the Date ! \n\n• ANIMATIONS •\nCOMING SOON \n\n• INFOS PRATIQUES •\nSamedi 1er et dimanche 2 mars 2025\n11h – 18h\nPalais des Régates\n1 Rue Maurice Taconet\, 76310 Sainte-Adresse \nEntrée 2€\nPaiement auprès des exposants en espèces ou CB (sur la majorité des stands) \n  \n• CONTACTS •\nPour ne rien manquer de notre actu\, n’hésitez pas à vous abonner à notre page Facebook\, à notre compte Instagram et à notre compte Tik Tok ! \nSi vous souhaitez nous proposer un article de presse ou blog\, un partenariat\, une animation : presse@violettesauvage.fr\nPour toutes questions générales concernant nos vides dressing et notre actualité : lehavre@violettesauvage.fr \nOn a hâte de vous retrouver pour cette nouvelle édition ! \nLa Team Sauvage
URL:https://www.violettesauvage.fr/evenement/vide-dressing-le-havre-palais-des-regates/
LOCATION:Palais des Régates\, 1 Rue Maurice Taconet\, Sainte-Adresse\, 76310\, France
CATEGORIES:Vide dressing géant
ATTACH;FMTTYPE=image/jpeg:https://www.violettesauvage.fr/wp-content/uploads/2024/11/LHP-NOV24-BAN2.jpg
ORGANIZER;CN="Violette Sauvage":MAILTO:videdressing@violettesauvage.fr
END:VEVENT
END:VCALENDAR