BEGIN:VCALENDAR
VERSION:2.0
PRODID:-//Violette Sauvage vide dressing - ECPv6.15.17//NONSGML v1.0//EN
CALSCALE:GREGORIAN
METHOD:PUBLISH
X-ORIGINAL-URL:https://www.violettesauvage.fr
X-WR-CALDESC:Évènements pour Violette Sauvage vide dressing
REFRESH-INTERVAL;VALUE=DURATION:PT1H
X-Robots-Tag:noindex
X-PUBLISHED-TTL:PT1H
BEGIN:VTIMEZONE
TZID:Europe/Paris
BEGIN:DAYLIGHT
TZOFFSETFROM:+0100
TZOFFSETTO:+0200
TZNAME:CEST
DTSTART:20240331T010000
END:DAYLIGHT
BEGIN:STANDARD
TZOFFSETFROM:+0200
TZOFFSETTO:+0100
TZNAME:CET
DTSTART:20241027T010000
END:STANDARD
BEGIN:DAYLIGHT
TZOFFSETFROM:+0100
TZOFFSETTO:+0200
TZNAME:CEST
DTSTART:20250330T010000
END:DAYLIGHT
BEGIN:STANDARD
TZOFFSETFROM:+0200
TZOFFSETTO:+0100
TZNAME:CET
DTSTART:20251026T010000
END:STANDARD
BEGIN:DAYLIGHT
TZOFFSETFROM:+0100
TZOFFSETTO:+0200
TZNAME:CEST
DTSTART:20260329T010000
END:DAYLIGHT
BEGIN:STANDARD
TZOFFSETFROM:+0200
TZOFFSETTO:+0100
TZNAME:CET
DTSTART:20261025T010000
END:STANDARD
END:VTIMEZONE
BEGIN:VEVENT
DTSTART;TZID=Europe/Paris:20250405T110000
DTEND;TZID=Europe/Paris:20250406T180000
DTSTAMP:20260420T191238
CREATED:20250123T132802Z
LAST-MODIFIED:20250313T140200Z
UID:16504-1743850800-1743962400@www.violettesauvage.fr
SUMMARY:Vide-dressing | Bordeaux\, Vivres de l'Art
DESCRIPTION:🌸 Violette Sauvage revient aux Vivres de l’Art les 5 et 6 avril 2025 ! 🌿 \nLe printemps approche\, et avec lui l’envie de renouveau ! Marquez vos agendas et préparez-vous à une expérience shopping unique les 5 et 6 avril 2025 aux Vivres de l’Art à Bordeaux. 🌷 \n\n• JE VEUX VENDRE •\nPour vendre vos pépites\, complétez simplement le formulaire\, composez votre stand\, et suivez les indications : Easy ! \n\n• LE LIEU •\nLes 1000m2 de ce lieu classé patrimoine historique se métamorphosent le temps d’un weekend pour devenir le temple ultime de la seconde main ! Le lieu idéal pour trouver de nouvelles pièces pour se faire plaisir de façon responsable \n\n• AU PROGRAMME •\n– Un week-end consacré à la slow-fashion et à la seconde main trendy\n– Des milliers d’articles sur plus de 1000m² de bons plans\n– Des animations & des ateliers \nVous aussi\, rejoignez le mouvement de la seconde main et luttez avec nous contre la fast fashion ! 👊🏼 \nÇa se passe de 11h00 à 18h00\, les samedi 5 et dimanche 6 avril 2025\, aux Vivres de l’Art de Bordeaux : Save the Date ! \n\n• ANIMATIONS •\nCOMING SOON \n\n• INFOS PRATIQUES •\nSamedi 5 et dimanche 6 avril 2025\n11h – 18h00\nLes Vivres de l’Art\n4 Rue Achard\, 33300 Bordeaux\nTram B | Rue Achard \nEntrée 2€ sur place \n✨ NOUVEAU ✨ Profitez pleinement de votre expérience shopping avec notre billet 2 jours à 3€ ! Accédez à l’ensemble des exposants tout le week-end et évitez l’attente grâce à l’accès coupe-file. Réservation uniquement en ligne ici.🔥 \nPaiement auprès des exposants en espèces ou CB (sur la majorité des stands) \n  \n• CONTACTS •\nPour ne rien manquer de notre actu\, n’hésitez pas à vous abonner à notre page Facebook\, à notre compte Instagram et à notre compte Tik Tok ! \nSi vous souhaitez nous proposer un article de presse ou blog\, un partenariat\, une animation : raphaelle@violettesauvage.fr\nPour toutes questions générales concernant nos vides dressing et notre actualité : bordeaux@violettesauvage.fr \nOn a hâte de vous retrouver pour cette nouvelle édition ! \nLa Team Sauvage
URL:https://www.violettesauvage.fr/evenement/vide-dressing-bordeaux-vivres-de-lart/
LOCATION:Les vivres de l’art\, 4 Rue Achard\, Bordeaux\, 33300\, France
CATEGORIES:Vide dressing géant
ATTACH;FMTTYPE=image/jpeg:https://www.violettesauvage.fr/wp-content/uploads/2025/01/BVA-AVR25-BAN.jpg
ORGANIZER;CN="Violette Sauvage":MAILTO:bordeaux@violettesauvage.fr
END:VEVENT
END:VCALENDAR