BEGIN:VCALENDAR
VERSION:2.0
PRODID:-//Violette Sauvage vide dressing - ECPv6.15.17//NONSGML v1.0//EN
CALSCALE:GREGORIAN
METHOD:PUBLISH
X-ORIGINAL-URL:https://www.violettesauvage.fr
X-WR-CALDESC:Évènements pour Violette Sauvage vide dressing
REFRESH-INTERVAL;VALUE=DURATION:PT1H
X-Robots-Tag:noindex
X-PUBLISHED-TTL:PT1H
BEGIN:VTIMEZONE
TZID:Europe/Helsinki
BEGIN:DAYLIGHT
TZOFFSETFROM:+0200
TZOFFSETTO:+0300
TZNAME:EEST
DTSTART:20230326T010000
END:DAYLIGHT
BEGIN:STANDARD
TZOFFSETFROM:+0300
TZOFFSETTO:+0200
TZNAME:EET
DTSTART:20231029T010000
END:STANDARD
BEGIN:DAYLIGHT
TZOFFSETFROM:+0200
TZOFFSETTO:+0300
TZNAME:EEST
DTSTART:20240331T010000
END:DAYLIGHT
BEGIN:STANDARD
TZOFFSETFROM:+0300
TZOFFSETTO:+0200
TZNAME:EET
DTSTART:20241027T010000
END:STANDARD
BEGIN:DAYLIGHT
TZOFFSETFROM:+0200
TZOFFSETTO:+0300
TZNAME:EEST
DTSTART:20250330T010000
END:DAYLIGHT
BEGIN:STANDARD
TZOFFSETFROM:+0300
TZOFFSETTO:+0200
TZNAME:EET
DTSTART:20251026T010000
END:STANDARD
END:VTIMEZONE
BEGIN:VEVENT
DTSTART;TZID=Europe/Helsinki:20241207T110000
DTEND;TZID=Europe/Helsinki:20241208T180000
DTSTAMP:20260422T124544
CREATED:20241106T101903Z
LAST-MODIFIED:20241106T102309Z
UID:16442-1733569200-1733680800@www.violettesauvage.fr
SUMMARY:Vide-dressing | Paris\, Marché de noël
DESCRIPTION:Dernière session avant les fêtes ! Toute l’équipe revient son marché de noël 100% seconde main les 7 et 8 décembre prochains !\n \nRendez-vous les 7 et 8 décembre prochains à Paris\, à l’espace Bailly pour dénicher des pépites avant noël ! Créateurs\, articles de luxe à prix canons\, c’est bien noté dans vos agendas? \n\n• JE VEUX VENDRE •\nPour vendre vos pépites\, complétez simplement le formulaire\, composez votre stand\, et suivez les indications : Easy ! \n\n• LE LIEU •\nViolette Sauvage organise son marché de noël en plein cœur de Paris ! 400m² rempli de milliers d’articles haut-de-gamme et des pièces de créateurs rien que pour vous et uniquement le temps d’un weekend\, l’occasion parfaite de faire plaisir à vos proches !\n \n\n• AU PROGRAMME •\n– Un week-end consacré à la slow-fashion et à la seconde main trendy\n– Des milliers d’articles et de bons plans\n– Un espace food & drinks\n– Des animations et des ateliers \nVous aussi\, rejoignez le mouvement de la seconde main et luttez avec nous contre la fast fashion ! 👊🏼 \nÇa se passe de 11h00 à 18h00\, les samedi 7 et dimanche 8 décembre 2024\, au 5/9 rue Bailly à Paris 3 : Save the Date ! \n\n• ANIMATIONS •\nCOMING SOON \n\n• INFOS PRATIQUES •\nSamedi 7 et dimanche 8 décembre 2024\n11h – 18h\n5/9 rue Bailly\, Paris 3\n \nMétro 3 et 11 – Arts et Métiers \nEntrée 2€\nPaiement auprès des exposants en espèces ou CB (sur la majorité des stands) \n  \n• CONTACTS •\nPour ne rien manquer de notre actu\, n’hésitez pas à vous abonner à notre page Facebook\, à notre compte Instagram et à notre compte Tik Tok ! \nSi vous souhaitez nous proposer un article de presse ou blog\, un partenariat\, une animation : presse@violettesauvage.fr\nPour toutes questions générales concernant nos vides dressing et notre actualité : videdressing@violettesauvage.fr \nOn a hâte de vous retrouver pour cette nouvelle édition ! \nLa Team Sauvage
URL:https://www.violettesauvage.fr/evenement/vide-dressing-paris-marche-de-noel/
LOCATION:Espace Bailly\, 5/9 rue Bailly\, Paris\, 75003\, France
CATEGORIES:Vide dressing géant
ATTACH;FMTTYPE=image/jpeg:https://www.violettesauvage.fr/wp-content/uploads/2024/11/BLY-DEC24-BAN.jpg
ORGANIZER;CN="Violette Sauvage":MAILTO:videdressing@violettesauvage.fr
END:VEVENT
END:VCALENDAR