BEGIN:VCALENDAR
VERSION:2.0
PRODID:-//Violette Sauvage vide dressing - ECPv6.15.17//NONSGML v1.0//EN
CALSCALE:GREGORIAN
METHOD:PUBLISH
X-WR-CALNAME:Violette Sauvage vide dressing
X-ORIGINAL-URL:https://www.violettesauvage.fr
X-WR-CALDESC:Évènements pour Violette Sauvage vide dressing
REFRESH-INTERVAL;VALUE=DURATION:PT1H
X-Robots-Tag:noindex
X-PUBLISHED-TTL:PT1H
BEGIN:VTIMEZONE
TZID:Europe/Paris
BEGIN:DAYLIGHT
TZOFFSETFROM:+0100
TZOFFSETTO:+0200
TZNAME:CEST
DTSTART:20240331T010000
END:DAYLIGHT
BEGIN:STANDARD
TZOFFSETFROM:+0200
TZOFFSETTO:+0100
TZNAME:CET
DTSTART:20241027T010000
END:STANDARD
BEGIN:DAYLIGHT
TZOFFSETFROM:+0100
TZOFFSETTO:+0200
TZNAME:CEST
DTSTART:20250330T010000
END:DAYLIGHT
BEGIN:STANDARD
TZOFFSETFROM:+0200
TZOFFSETTO:+0100
TZNAME:CET
DTSTART:20251026T010000
END:STANDARD
BEGIN:DAYLIGHT
TZOFFSETFROM:+0100
TZOFFSETTO:+0200
TZNAME:CEST
DTSTART:20260329T010000
END:DAYLIGHT
BEGIN:STANDARD
TZOFFSETFROM:+0200
TZOFFSETTO:+0100
TZNAME:CET
DTSTART:20261025T010000
END:STANDARD
END:VTIMEZONE
BEGIN:VEVENT
DTSTART;TZID=Europe/Paris:20250508T100000
DTEND;TZID=Europe/Paris:20250511T190000
DTSTAMP:20260420T140933
CREATED:20250407T125912Z
LAST-MODIFIED:20250407T125912Z
UID:16607-1746698400-1746990000@www.violettesauvage.fr
SUMMARY:Vide-dressing | Violette Sauvage x Foire de Paris
DESCRIPTION:Du 8 au 11 mai : Violette Sauvage débarque à la Foire de Paris ! \nÉvénement exceptionnel ! Retrouvez-nous sur la Terrasse de la Foire de Paris\, dans l’espace dédié au Marché de la seconde main\, pour une édition unique de notre vide-dressing XXL. Quatre jours placés sous le signe de la mode responsable et de la seconde main. Attention\, les places sont très limitées\, ne tardez pas à réserver votre stand ! \n\n• JE VEUX VENDRE •\nPour vendre vos pépites\, complétez simplement le formulaire\, composez votre stand\, et suivez les indications : Easy ! \n\n• LE LIEU •\nNotre corner à la Foire de Paris sera entièrement dédié à la mode de seconde main\, offrant une alternative durable et élégante aux tendances éphémères de l’industrie de la mode. \n\n• AU PROGRAMME •\n– 4 jours consacrés à la slow-fashion et à la seconde main trendy\n– Des milliers d’articles de seconde main sur la Terrasse de la Foire\n– Un espace food & drinks \nVous aussi\, rejoignez le mouvement de la seconde main et luttez avec nous contre la fast fashion ! 👊🏼 \nÇa se passe de 10h00 à 19h00 (nocturne jusqu’à 22h le samedi)\, du jeudi 8 et dimanche 11 mai 2025\, à la Foire de Paris : Save the Date ! \n\n• INFOS PRATIQUES •\nJeudi 8 au dimanche 11 mai 2025\n10h – 19h (nocturne jusqu’à 22h le samedi 10 mai)\nParis Expo Porte de Versailles\n1 place de la porte de Versailles\, 75015 Paris \nT2 ou T3 – Porte de Versailles \nLien de la billetterie : Foire de Paris \nPaiement auprès des exposants en espèces ou CB (sur la majorité des stands) \n  \n• CONTACTS •\nPour ne rien manquer de notre actu\, n’hésitez pas à vous abonner à notre page Facebook\, à notre compte Instagram et à notre compte Tik Tok ! \nSi vous souhaitez nous proposer un article de presse ou blog\, un partenariat\, une animation : presse@violettesauvage.fr\nPour toutes questions générales concernant nos vides dressing et notre actualité : videdressing@violettesauvage.fr \nOn a hâte de vous retrouver pour cette nouvelle édition ! \nLa Team Sauvage
URL:https://www.violettesauvage.fr/evenement/vide-dressing-violette-sauvage-x-foire-de-paris/
LOCATION:Foire de Paris\, 1 place de la porte de Versailles\, Paris\, 75015
CATEGORIES:Vide dressing géant
ATTACH;FMTTYPE=image/jpeg:https://www.violettesauvage.fr/wp-content/uploads/2025/04/FPV-MAI25-BAN.jpg
ORGANIZER;CN="Violette Sauvage":MAILTO:bordeaux@violettesauvage.fr
END:VEVENT
END:VCALENDAR